BEGIN:VCALENDAR
VERSION:2.0
PRODID:
CALSCALE:GREGORIAN
METHOD:PUBLISH
BEGIN:VTIMEZONE
TZID:America/New_York
BEGIN:STANDARD
DTSTART:19701025T060000
TZOFFSETTO:-0500
TZOFFSETFROM:-0400
RRULE:FREQ=YEARLY;BYMONTH=11;BYDAY=1SU
END:STANDARD
BEGIN:DAYLIGHT
DTSTART:19700426T070000
TZOFFSETTO:-0400
TZOFFSETFROM:-0500
RRULE:FREQ=YEARLY;BYMONTH=3;BYDAY=2SU
END:DAYLIGHT
END:VTIMEZONE
BEGIN:VEVENT
UID:1015
DTSTART:20260425T111500
DTEND:20260425T114500
STATUS:
SUMMARY:Zumba (Grabówek)
DESCRIPTION:
LOCATION;LANGUAGE=pl:Szkoła Podstawowa nr 17, ul. Grabowo 12, 81-265 
 Gdynia
DTSTAMP:20260423T120509Z
ORGANIZER;CN=Gdyńskie centrum sportu;LANGUAGE=pl:
END:VEVENT
END:VCALENDAR
